BEGIN:VCALENDAR
VERSION:2.0
PRODID:-//ChamberMaster//Event Calendar 2.0//EN
METHOD:PUBLISH
X-PUBLISHED-TTL:P3D
REFRESH-INTERVAL:P3D
CALSCALE:GREGORIAN
BEGIN:VEVENT
DTSTART:20190516T160000Z
DTEND:20190516T173000Z
X-MICROSOFT-CDO-ALLDAYEVENT:FALSE
SUMMARY:May Chamber Luncheon
DESCRIPTION:Make plans to join us at the Ole Oak Barn Wedding and Event Venue\, our Sponsor for our May Chamber luncheon.\n\nClick HERE to Register!
X-ALT-DESC;FMTTYPE=text/html:<div align="center" style="color: rgb(64\, 63\, 66)\; font-family: Arial\, Verdana\, Helvetica\, sans-serif\; font-size: 14px\; background-color: rgb(255\, 255\, 255)\; text-align: center\;"><span style="color: rgb(0\, 0\, 0)\;">Make plans to join us at the Ole Oak Barn Wedding and Event Venue\, our Sponsor&nbsp\;for our&nbsp\;May Chamber luncheon.<br />\nClick <a href="http://events.r20.constantcontact.com/register/event?oeidk=a07ega6s0zl29ab4bf4&amp\;llr=4nhemhkab">HERE </a>to Register!</span></div>\n
LOCATION:Ole Oak Barn Wedding and Event Venue - 1155 Holy Trinity Church Road\, Little Mountain\,SC
UID:e.1644.2434
SEQUENCE:3
DTSTAMP:20260422T035905Z
URL:https://business.chapinchamber.com/events/details/may-chamber-luncheon-2434
END:VEVENT

END:VCALENDAR
