BEGIN:VCALENDAR
VERSION:2.0
PRODID:-//ChamberMaster//Event Calendar 2.0//EN
METHOD:PUBLISH
X-PUBLISHED-TTL:P3D
REFRESH-INTERVAL:P3D
CALSCALE:GREGORIAN
BEGIN:VEVENT
DTSTART:20191104T230000Z
DTEND:20191105T010000Z
X-MICROSOFT-CDO-ALLDAYEVENT:FALSE
SUMMARY:Mediterranean Monday!
DESCRIPTION:Join Greg Gerrald as he takes you on\n\na 28-day journey through many of the delicious and satisfying tastes of the Mediterranean Diet.\n\nUnlike most diets\, the Mediterranean Diet doesn't cut out all the good stuff and leave you feeling deprived.\n\nIt features a wide variety of foods that are flavorful\, healthy\, and lower in calories including vegetables\, fruits\, whole grains\, nuts\, legumes\, beans\, herbs\, spices\, and olive oil. Foods eaten in moderation include fish\, seafood\, poultry\, eggs\,\n\nand dairy. Desserts and red meat are saved for special occasions.\n\nBy following this diet plan\, you'll experience first-hand how to enjoy "good taste" and "good for you" at the same time.\n\nTicket price includes one copy of the book 'Make Every Day Mediterranean' and admission to the event for one participant.\n\n*If you are a couple wanting to attend\, please call the store at\n\n(803) 785-7887 to pay*
X-ALT-DESC;FMTTYPE=text/html:<div align="center" style="color: rgb(64\, 63\, 66)\; font-family: Arial\, Verdana\, Helvetica\, sans-serif\; font-size: 14px\; background-color: rgb(255\, 255\, 255)\; text-align: center\;"><span style="color: rgb(0\, 0\, 0)\;">Join Greg Gerrald as he takes you on</span></div>\n\n<div align="center" style="color: rgb(64\, 63\, 66)\; font-family: Arial\, Verdana\, Helvetica\, sans-serif\; font-size: 14px\; background-color: rgb(255\, 255\, 255)\; text-align: center\;"><span style="color: rgb(0\, 0\, 0)\;">a 28-day journey through many of the delicious and satisfying tastes of the Mediterranean Diet.</span></div>\n\n<div align="center" style="color: rgb(64\, 63\, 66)\; font-family: Arial\, Verdana\, Helvetica\, sans-serif\; font-size: 14px\; background-color: rgb(255\, 255\, 255)\; text-align: center\;"><span style="color: rgb(0\, 0\, 0)\;">Unlike most diets\, the Mediterranean Diet doesn&#39\;t cut out all the good stuff and leave you feeling deprived.</span></div>\n\n<div align="center" style="color: rgb(64\, 63\, 66)\; font-family: Arial\, Verdana\, Helvetica\, sans-serif\; font-size: 14px\; background-color: rgb(255\, 255\, 255)\; text-align: center\;"><span style="color: rgb(0\, 0\, 0)\;">It features a wide variety of foods that are flavorful\, healthy\, and lower in calories including vegetables\, fruits\, whole grains\, nuts\, legumes\, beans\, herbs\, spices\, and olive oil. Foods eaten in moderation include fish\, seafood\, poultry\, eggs\,</span></div>\n\n<div align="center" style="color: rgb(64\, 63\, 66)\; font-family: Arial\, Verdana\, Helvetica\, sans-serif\; font-size: 14px\; background-color: rgb(255\, 255\, 255)\; text-align: center\;"><span style="color: rgb(0\, 0\, 0)\;">and dairy. Desserts and red meat are saved for special occasions.</span></div>\n\n<div align="center" style="color: rgb(64\, 63\, 66)\; font-family: Arial\, Verdana\, Helvetica\, sans-serif\; font-size: 14px\; background-color: rgb(255\, 255\, 255)\; text-align: center\;"><span style="color: rgb(0\, 0\, 0)\;">By following this diet plan\, you&#39\;ll experience first-hand how to enjoy &quot\;good taste&quot\; and &quot\;good for you&quot\; at the same time.</span></div>\n\n<div align="center" style="color: rgb(64\, 63\, 66)\; font-family: Arial\, Verdana\, Helvetica\, sans-serif\; font-size: 14px\; background-color: rgb(255\, 255\, 255)\; text-align: center\;"><span style="color: rgb(0\, 0\, 0)\;">Ticket price includes one copy of the book &#39\;Make Every Day Mediterranean&#39\; and admission to the event for one participant.</span></div>\n\n<div align="center" style="color: rgb(64\, 63\, 66)\; font-family: Arial\, Verdana\, Helvetica\, sans-serif\; font-size: 14px\; background-color: rgb(255\, 255\, 255)\; text-align: center\;"><span style="color: rgb(0\, 0\, 0)\;">*If you are a couple wanting to attend\, please call the store at</span></div>\n\n<div align="center" style="color: rgb(64\, 63\, 66)\; font-family: Arial\, Verdana\, Helvetica\, sans-serif\; font-size: 14px\; background-color: rgb(255\, 255\, 255)\; text-align: center\;"><span style="color: rgb(0\, 0\, 0)\;">(803) 785-7887 to pay*</span></div>\n
LOCATION:The Classy Cruet - 223 Columbia Avenue\, Chapin
UID:e.1644.3554
SEQUENCE:3
DTSTAMP:20260425T211147Z
URL:https://business.chapinchamber.com/events/details/mediterranean-monday-3554
END:VEVENT

END:VCALENDAR
