BEGIN:VCALENDAR
VERSION:2.0
PRODID:-//ChamberMaster//Event Calendar 2.0//EN
METHOD:PUBLISH
X-PUBLISHED-TTL:P3D
REFRESH-INTERVAL:P3D
CALSCALE:GREGORIAN
BEGIN:VEVENT
DTSTART:20191211T150000Z
DTEND:20191212T000000Z
X-MICROSOFT-CDO-ALLDAYEVENT:FALSE
SUMMARY:Merle Norman Holiday Open House
DESCRIPTION:Bring your friends and enjoy a day of food\, friendship and shopping! Door prizes and gift with purchase for everyone!  Gift Certificates available.
X-ALT-DESC;FMTTYPE=text/html:Bring your friends and enjoy a day of food\, friendship and shopping! Door prizes and gift with purchase for everyone!&nbsp\; Gift Certificates available.&nbsp\;
LOCATION:Merle Norman - 130 Amicks Ferry Road\, Suite C\, Chapin SC
UID:e.1644.3576
SEQUENCE:3
DTSTAMP:20260425T192754Z
URL:https://business.chapinchamber.com/events/details/merle-norman-holiday-open-house-3576
END:VEVENT

END:VCALENDAR
