BEGIN:VCALENDAR
VERSION:2.0
PRODID:-//ChamberMaster//Event Calendar 2.0//EN
METHOD:PUBLISH
X-PUBLISHED-TTL:P3D
REFRESH-INTERVAL:P3D
CALSCALE:GREGORIAN
BEGIN:VEVENT
DTSTART;VALUE=DATE:20190507
DTEND;VALUE=DATE:20190508
TRANSP:TRANSPARENT
X-MICROSOFT-CDO-ALLDAYEVENT:TRUE
SUMMARY:Midlands Gives
DESCRIPTION:Midlands Gives brings the region together as one community\, raising money and awareness for Midlands nonprofits during an annual 18-hour online giving challenge.\n\nDuring Midlands Gives\, everyone has the opportunity to be a philanthropit as contributions of just $20 or more are amplified through sponsored prize incentives. \n\n\n\nSchedule your Midlands Gives gift today and your donation will automatically process on May 7th\, Midlands Gives Day. Please note\, scheduled gifts do not count towards prize incentives and credit cards will not be charged until May 7th.
X-ALT-DESC;FMTTYPE=text/html:<span style="color: rgb(102\, 102\, 102)\; font-family: Lato\, Helvetica\, Arial\, sans-serif\; font-size: 16px\; background-color: rgb(251\, 251\, 251)\;">Midlands Gives brings the region together as one community\, raising money and awareness for Midlands nonprofits during an annual 18-hour online giving challenge.<br />\nDuring Midlands Gives\, everyone has the opportunity to be a philanthropit as contributions of just $20 or more are amplified through sponsored prize incentives.&nbsp\;</span><br style="box-sizing: border-box\; margin: 0px\; padding: 0px\; color: rgb(102\, 102\, 102)\; font-family: Lato\, Helvetica\, Arial\, sans-serif\; font-size: 16px\; background-color: rgb(251\, 251\, 251)\;" />\n<br style="box-sizing: border-box\; margin: 0px\; padding: 0px\; color: rgb(102\, 102\, 102)\; font-family: Lato\, Helvetica\, Arial\, sans-serif\; font-size: 16px\; background-color: rgb(251\, 251\, 251)\;" />\n<span style="color: rgb(102\, 102\, 102)\; font-family: Lato\, Helvetica\, Arial\, sans-serif\; font-size: 16px\; background-color: rgb(251\, 251\, 251)\;">Schedule your Midlands Gives gift today and your donation will automatically process on May 7th\, Midlands Gives Day. Please note\, scheduled gifts do not count towards prize incentives and credit cards will not be charged until May 7th.</span>
LOCATION:
UID:e.1644.2449
SEQUENCE:3
DTSTAMP:20260422T035804Z
URL:https://business.chapinchamber.com/events/details/midlands-gives-2449
END:VEVENT

END:VCALENDAR
