BEGIN:VCALENDAR
VERSION:2.0
PRODID:-//ChamberMaster//Event Calendar 2.0//EN
METHOD:PUBLISH
X-PUBLISHED-TTL:P3D
REFRESH-INTERVAL:P3D
CALSCALE:GREGORIAN
BEGIN:VEVENT
DTSTART:20200521T160000Z
DTEND:20200521T173000Z
X-MICROSOFT-CDO-ALLDAYEVENT:FALSE
SUMMARY:Monthly Member Meeting Sponsored by Chapin Neighbors
DESCRIPTION:One of the newest additions to Chapin this year has been the Chapin Neighbors Magazine. Come learn about the magazine and any opportunities it may have for you and your company! Registration is required and lunch will be provided. Registration and venue to follow.
X-ALT-DESC;FMTTYPE=text/html:One of the newest additions to Chapin this year has been the Chapin Neighbors Magazine. Come learn about the magazine and any opportunities it may have for you and your company! Registration is required and lunch will be provided. Registration and venue to follow.&nbsp\;
LOCATION:TBA
UID:e.1644.3626
SEQUENCE:3
DTSTAMP:20260424T060319Z
URL:https://business.chapinchamber.com/events/details/monthly-member-meeting-sponsored-by-chapin-neighbors-3626
END:VEVENT

END:VCALENDAR
