BEGIN:VCALENDAR
VERSION:2.0
PRODID:-//ChamberMaster//Event Calendar 2.0//EN
METHOD:PUBLISH
X-PUBLISHED-TTL:P3D
REFRESH-INTERVAL:P3D
CALSCALE:GREGORIAN
BEGIN:VEVENT
DTSTART;VALUE=DATE:20190512
DTEND;VALUE=DATE:20190513
TRANSP:TRANSPARENT
X-MICROSOFT-CDO-ALLDAYEVENT:TRUE
SUMMARY:Mother's Day
DESCRIPTION:Mother's Day\, the time to pay a tribute to that one person who has made it possible for you to see the light of the world - your mother. Amidst the demanding schedule that modern day life has tied us down with\, it is the most opportune moment to tell her what she is in your life\, what she means to you.
X-ALT-DESC;FMTTYPE=text/html:<span style="font-family: Georgia\, &quot\;Times New Roman&quot\;\, Times\, serif\; font-size: 16px\; background-color: rgb(255\, 255\, 255)\;">Mother&#39\;s Day\, the time to pay a tribute to that one person who has made it possible for you to see the light of the world - your mother. Amidst the demanding schedule that modern day life has tied us down with\, it is the most opportune moment to tell her what she is in your life\, what she means to you.</span>
LOCATION:
UID:e.1644.2438
SEQUENCE:3
DTSTAMP:20260422T035904Z
URL:https://business.chapinchamber.com/events/details/mother-s-day-2438
END:VEVENT

END:VCALENDAR
