BEGIN:VCALENDAR
VERSION:2.0
PRODID:-//ChamberMaster//Event Calendar 2.0//EN
METHOD:PUBLISH
X-PUBLISHED-TTL:P3D
REFRESH-INTERVAL:P3D
CALSCALE:GREGORIAN
BEGIN:VEVENT
DTSTART:20260514T233000Z
DTEND:20260601T013000Z
X-MICROSOFT-CDO-ALLDAYEVENT:FALSE
SUMMARY:Nana’s Naughty Knickers
DESCRIPTION:Recent college graduate Bridget is moving in with her grandmother for a relaxing summer before she heads to law school. However\, when she discovers that her grandma is running an illegal business selling handmade "naughty knickers" especially made for seniors\, relaxation is out the window. Will grandma get arrested - or worse\, evicted!
X-ALT-DESC;FMTTYPE=text/html:Recent college graduate Bridget is moving in with her grandmother for a relaxing summer before she heads to law school. However\, when she discovers that her grandma is running an illegal business selling handmade &ldquo\;naughty knickers&rdquo\; especially made for seniors\, relaxation is out the window. Will grandma get arrested - or worse\, evicted!
LOCATION:Chapin Theatre Company\, 830 Columbia Ave\, Chapin\, SC 29036
UID:e.1644.6770
SEQUENCE:3
DTSTAMP:20260423T013624Z
URL:https://business.chapinchamber.com/events/details/nana-s-naughty-knickers-6770
END:VEVENT

END:VCALENDAR
