BEGIN:VCALENDAR
VERSION:2.0
PRODID:-//ChamberMaster//Event Calendar 2.0//EN
METHOD:PUBLISH
X-PUBLISHED-TTL:P3D
REFRESH-INTERVAL:P3D
CALSCALE:GREGORIAN
BEGIN:VEVENT
DTSTART:20190921T230000Z
DTEND:20190922T020000Z
X-MICROSOFT-CDO-ALLDAYEVENT:FALSE
SUMMARY:Night of Comedy and Karaoke
DESCRIPTION:The Chapin Chamber is switching it up this year!! Please join us for "A Night of Comedy & Karaoke\," as we showcase two "clean" but hilarious\, professional comedians and a brand new segment to the show...a Karaoke Competition Finale! Sponsorship Opportunities\, which include tickets to the event\, are now available!
X-ALT-DESC;FMTTYPE=text/html:<span style="color: rgb(64\, 63\, 66)\; font-family: Arial\, Verdana\, Helvetica\, sans-serif\; font-size: 14px\; text-align: center\; white-space: pre-wrap\; background-color: rgb(255\, 255\, 255)\;">The Chapin Chamber is switching it up this year!! Please join us for &quot\;A Night of Comedy &amp\; Karaoke\,&quot\; as we showcase two &quot\;clean&quot\; but hilarious\, professional comedians and a brand new segment to the show...a Karaoke Competition Finale! Sponsorship Opportunities\, which include tickets to the event\, are now available! </span>
LOCATION:Beaufort Street\, Chapin SC
UID:e.1644.2504
SEQUENCE:3
DTSTAMP:20260426T005230Z
URL:https://business.chapinchamber.com/events/details/night-of-comedy-and-karaoke-2504
END:VEVENT

END:VCALENDAR
