BEGIN:VCALENDAR
VERSION:2.0
PRODID:-//ChamberMaster//Event Calendar 2.0//EN
METHOD:PUBLISH
X-PUBLISHED-TTL:P3D
REFRESH-INTERVAL:P3D
CALSCALE:GREGORIAN
BEGIN:VEVENT
DTSTART:20180803T230000Z
DTEND:20180804T030000Z
X-MICROSOFT-CDO-ALLDAYEVENT:FALSE
SUMMARY:Noel Lindler & the Bank Walkers with Brendan Roberts
DESCRIPTION:Come enjoy the music of Noel Lindler & the Bank Walkers with Brendan Roberts - Hosted by the Little Mountain Reunion
X-ALT-DESC;FMTTYPE=text/html:<span style="color: rgb(29\, 33\, 41)\; font-family: Helvetica\, Arial\, sans-serif\; font-size: 14px\; background-color: rgb(255\, 255\, 255)\;">Come enjoy the music of Noel Lindler &amp\; the Bank Walkers with Brendan Roberts - Hosted by the Little Mountain Reunion&nbsp\;</span>
LOCATION:Reunion Park - State Road S-36-458 - Little Mountain\, SC
UID:e.1644.2202
SEQUENCE:3
DTSTAMP:20260422T220823Z
URL:https://business.chapinchamber.com/events/details/noel-lindler-the-bank-walkers-with-brendan-roberts-2202
END:VEVENT

END:VCALENDAR
