BEGIN:VCALENDAR
VERSION:2.0
PRODID:-//ChamberMaster//Event Calendar 2.0//EN
METHOD:PUBLISH
X-PUBLISHED-TTL:P3D
REFRESH-INTERVAL:P3D
CALSCALE:GREGORIAN
BEGIN:VEVENT
DTSTART:20191121T123000Z
DTEND:20191121T140000Z
X-MICROSOFT-CDO-ALLDAYEVENT:FALSE
SUMMARY:November Chamber Breakfast Meeting 2019
DESCRIPTION:Please join us as Chapin Pharmacy hosts our Chamber Breakfast on Thursday November 21st @ 7:30 a.m. at the Chapin Baptist Church. Come enjoy breakfast from Little Pigs BBQ. Pharmacist Kara McBride will be discussing all things CBD. Come and learn how it works\, tips on CBD Oil and what products could benefit you. Chapin Pharmacy carries a complete line of CBD products for both humans and pets\, so you can find the right fit for your lifestyle!
X-ALT-DESC;FMTTYPE=text/html:<span style="font-family: Arial\, Helvetica\, sans-serif\; font-size: 12px\;">Please join us as Chapin Pharmacy hosts our Chamber Breakfast on Thursday November 21st @ 7:30 a.m. at the Chapin Baptist Church. Come enjoy breakfast from Little Pigs BBQ. Pharmacist Kara McBride will be discussing all things CBD. Come and learn how it works\, tips on CBD Oil and what products could benefit you. Chapin Pharmacy carries a complete line of CBD products for both humans and pets\, so you can find the right fit for your lifestyle!&nbsp\;</span>
LOCATION:Chapin Baptist Church - 950 Old Lexington Hwy\, Chapin
UID:e.1644.3564
SEQUENCE:3
DTSTAMP:20260425T211425Z
URL:https://business.chapinchamber.com/events/details/november-chamber-breakfast-meeting-2019-3564
END:VEVENT

END:VCALENDAR
