BEGIN:VCALENDAR
VERSION:2.0
PRODID:-//ChamberMaster//Event Calendar 2.0//EN
METHOD:PUBLISH
X-PUBLISHED-TTL:P3D
REFRESH-INTERVAL:P3D
CALSCALE:GREGORIAN
BEGIN:VEVENT
DTSTART;VALUE=DATE:20180929
DTEND;VALUE=DATE:20180930
TRANSP:TRANSPARENT
X-MICROSOFT-CDO-ALLDAYEVENT:TRUE
SUMMARY:OKTOBERFEST GOLF OUTING AT TIMBERLAKE CC
DESCRIPTION:4 - Player Captain's Choice - 10:00 a.m. Shotgun Start\n\n$50.00 per player - Enjoy a variety of seasonal beers\, brats and additional Oktoberfest inspired dishes! \n\n18 holes\, prizes\, food\, beer tastings - Mulligans and More available for purchase.  Sign up at the pro shop. Call (803) 345-9909 ext 14 for more details.  Deadline for sign ups 9/22/2018
X-ALT-DESC;FMTTYPE=text/html:4 - Player Captain&#39\;s Choice - 10:00 a.m. Shotgun Start<br />\n$50.00 per player - Enjoy a variety of seasonal beers\, brats and additional Oktoberfest inspired dishes!&nbsp\;<br />\n18 holes\, prizes\, food\, beer tastings - Mulligans and More available for purchase.&nbsp\; Sign up at the pro shop. <strong>Call (803) 345-9909 ext 14 for more details.&nbsp\; Deadline for sign ups 9/22/2018</strong>
LOCATION:Timberlake Country Club - 222 Timberlake Drive
UID:e.1644.2231
SEQUENCE:3
DTSTAMP:20260422T182920Z
URL:https://business.chapinchamber.com/events/details/oktoberfest-golf-outing-at-timberlake-cc-2231
END:VEVENT

END:VCALENDAR
