BEGIN:VCALENDAR
VERSION:2.0
PRODID:-//ChamberMaster//Event Calendar 2.0//EN
METHOD:PUBLISH
X-PUBLISHED-TTL:P3D
REFRESH-INTERVAL:P3D
CALSCALE:GREGORIAN
BEGIN:VEVENT
DTSTART:20180714T120000Z
DTEND:20180714T170000Z
X-MICROSOFT-CDO-ALLDAYEVENT:FALSE
SUMMARY:Our Lady of the Lake GIGANTIC Yard Sale
DESCRIPTION:Visit Our Lady of the Lake for their annual Church Yard Sale! \n\nThey are accepting donations after all masses and on Mondays & Wednesdays from 5:30 p.m. - 7:00 p.m\n\n(No clothes\, car seats\, or computer equipment please)\n\nDonations can be left in the Family Life Center outside of the classrooms\n\n*Please hold your large furniture donations until June 11th\, all others are welcome now!* \n\nPlease Call Amy Easler (803) 606-1604 or with any questions or David Easler for pick ups (803) 351-6090.
X-ALT-DESC;FMTTYPE=text/html:<span style="color: rgb(29\, 33\, 41)\; font-family: Helvetica\, Arial\, sans-serif\; font-size: 14px\; background-color: rgb(255\, 255\, 255)\;">Visit Our Lady of the Lake for their annual Church Yard Sale!&nbsp\;</span><br style="color: rgb(29\, 33\, 41)\; font-family: Helvetica\, Arial\, sans-serif\; font-size: 14px\; background-color: rgb(255\, 255\, 255)\;" />\n<span style="color: rgb(29\, 33\, 41)\; font-family: Helvetica\, Arial\, sans-serif\; font-size: 14px\; background-color: rgb(255\, 255\, 255)\;">They are accepting donations after all masses and on Mondays &amp\; Wednesdays from 5:30 p.m. - 7:00 p.m</span><br style="color: rgb(29\, 33\, 41)\; font-family: Helvetica\, Arial\, sans-serif\; font-size: 14px\; background-color: rgb(255\, 255\, 255)\;" />\n<span style="color: rgb(29\, 33\, 41)\; font-family: Helvetica\, Arial\, sans-serif\; font-size: 14px\; background-color: rgb(255\, 255\, 255)\;">(No clothes\, car seats\, or computer equipment please)</span><br style="color: rgb(29\, 33\, 41)\; font-family: Helvetica\, Arial\, sans-serif\; font-size: 14px\; background-color: rgb(255\, 255\, 255)\;" />\n<span style="color: rgb(29\, 33\, 41)\; font-family: Helvetica\, Arial\, sans-serif\; font-size: 14px\; background-color: rgb(255\, 255\, 255)\;">Donations can be left in the Family Life Center outside of the classrooms</span><br style="color: rgb(29\, 33\, 41)\; font-family: Helvetica\, Arial\, sans-serif\; font-size: 14px\; background-color: rgb(255\, 255\, 255)\;" />\n<span style="color: rgb(29\, 33\, 41)\; font-family: Helvetica\, Arial\, sans-serif\; font-size: 14px\; background-color: rgb(255\, 255\, 255)\;">*Please hold your large furniture donations until June 11th\, all others are welcome now!*&nbsp\;</span><br style="color: rgb(29\, 33\, 41)\; font-family: Helvetica\, Arial\, sans-serif\; font-size: 14px\; background-color: rgb(255\, 255\, 255)\;" />\n<span style="color: rgb(29\, 33\, 41)\; font-family: Helvetica\, Arial\, sans-serif\; font-size: 14px\; background-color: rgb(255\, 255\, 255)\;">Please Call Amy Easler (803) 606-1604 or with any questions or David Easler for pick ups (803) 351-6090.</span>
LOCATION:195 Amicks Ferry Road\, Chapin SC
UID:e.1644.2199
SEQUENCE:3
DTSTAMP:20260422T221701Z
URL:https://business.chapinchamber.com/events/details/our-lady-of-the-lake-gigantic-yard-sale-2199
END:VEVENT

END:VCALENDAR
