BEGIN:VCALENDAR
VERSION:2.0
PRODID:-//ChamberMaster//Event Calendar 2.0//EN
METHOD:PUBLISH
X-PUBLISHED-TTL:P3D
REFRESH-INTERVAL:P3D
CALSCALE:GREGORIAN
BEGIN:VEVENT
DTSTART:20180803T223000Z
DTEND:20180803T233000Z
X-MICROSOFT-CDO-ALLDAYEVENT:FALSE
SUMMARY:Party in the Park - Kyle and Linda Collins
DESCRIPTION:Join Newberry Opera House in Memorial Park as they host their final FREE Summer Concert "Party in the Park". Sit back and relax as Kyle & Linda Collins help kick off the first day of Corsets and Cravats 2018 with their Early American Music! \nMake sure to bring a lawn chair or blanket for your comfort. Tickets are not required for the concert. To learn more about this mid-19th century clothing conference visit their website: http://www.corsetsandcravats.com/
X-ALT-DESC;FMTTYPE=text/html:<span style="color: rgb(29\, 33\, 41)\; font-family: Helvetica\, Arial\, sans-serif\; font-size: 14px\; background-color: rgb(255\, 255\, 255)\;">Join Newberry Opera House in Memorial Park as they host their final FREE Summer Concert &quot\;Party in the Park&quot\;. Sit back and relax as Kyle &amp\; Linda Collins help kick off the first day of&nbsp\;</span><a href="https://www.facebook.com/events/155273701835954/" style="color: rgb(54\, 88\, 153)\; cursor: pointer\; text-decoration-line: none\; font-family: Helvetica\, Arial\, sans-serif\; font-size: 14px\; background-color: rgb(255\, 255\, 255)\;" target="_blank">Corsets and Cravats 2018</a><span style="color: rgb(29\, 33\, 41)\; font-family: Helvetica\, Arial\, sans-serif\; font-size: 14px\; background-color: rgb(255\, 255\, 255)\;">&nbsp\;with their Early American Music!&nbsp\;</span>\n<div><span style="color: rgb(29\, 33\, 41)\; font-family: Helvetica\, Arial\, sans-serif\; font-size: 14px\; background-color: rgb(255\, 255\, 255)\;">Make sure to bring a lawn chair or blanket for your comfort. Tickets are not required for the concert. To learn more about this mid-19th century clothing conference visit their website:&nbsp\;</span><a data-lynx-mode="hover" data-lynx-uri="https://l.facebook.com/l.php?u=http%3A%2F%2Fwww.corsetsandcravats.com%2F&amp\;h=AT3XIyOruOXTbKFN9EpFT_9GhYUFKkfIm_uFbYsYBsN6MfGOfzHkhh8KYgFgpv2qQl0OUZFZTuecIu1N8BoLPHjHtRa9Hhj2vr0Uits_bLyd4k08aVygyOldmtv-JtQpvIUSOYKAotObRynimw" href="http://www.corsetsandcravats.com/" rel="nofollow noopener" style="color: rgb(54\, 88\, 153)\; cursor: pointer\; text-decoration-line: none\; font-family: Helvetica\, Arial\, sans-serif\; font-size: 14px\; background-color: rgb(255\, 255\, 255)\;" target="_blank">http://www.corsetsandcravats.com/</a></div>\n
LOCATION:Memorial Park - Newberry SC 1000 Boyce Street\, Newberry\, SC
UID:e.1644.2221
SEQUENCE:3
DTSTAMP:20260422T202030Z
URL:https://business.chapinchamber.com/events/details/party-in-the-park-kyle-and-linda-collins-2221
END:VEVENT

END:VCALENDAR
