BEGIN:VCALENDAR
VERSION:2.0
PRODID:-//ChamberMaster//Event Calendar 2.0//EN
METHOD:PUBLISH
X-PUBLISHED-TTL:P3D
REFRESH-INTERVAL:P3D
CALSCALE:GREGORIAN
BEGIN:VEVENT
DTSTART:20180816T210000Z
DTEND:20180817T000000Z
X-MICROSOFT-CDO-ALLDAYEVENT:FALSE
SUMMARY:Pop Up Art Show - Meet the Artist
DESCRIPTION:Pop Up Art Show - Meet the Artist - One Night Only!!  Nicki Peeples\, Ingrid Carson\, Tommy Thompson\, & Angie Mellor with Lime Green!
X-ALT-DESC;FMTTYPE=text/html:Pop Up Art Show - Meet the Artist - One Night Only!!&nbsp\; Nicki Peeples\, Ingrid Carson\, Tommy Thompson\, &amp\; Angie Mellor with Lime Green!
LOCATION:Hosted by Palmetto Fine Arts\, 107 Beaufort Street\, Chapin
UID:e.1644.2200
SEQUENCE:3
DTSTAMP:20260422T201851Z
URL:https://business.chapinchamber.com/events/details/pop-up-art-show-meet-the-artist-2200
END:VEVENT

END:VCALENDAR
