BEGIN:VCALENDAR
VERSION:2.0
PRODID:-//ChamberMaster//Event Calendar 2.0//EN
METHOD:PUBLISH
X-PUBLISHED-TTL:P3D
REFRESH-INTERVAL:P3D
CALSCALE:GREGORIAN
BEGIN:VEVENT
DTSTART:20191201T160000Z
DTEND:20191201T210000Z
X-MICROSOFT-CDO-ALLDAYEVENT:FALSE
SUMMARY:Potters of Chapin Pottery Sale
DESCRIPTION:Join the Potters for their annual pottery sale at the Chamber House! They have a number of artists participating and a wide variety of items for sale!
X-ALT-DESC;FMTTYPE=text/html:Join the Potters for their annual pottery sale at the Chamber House! They have a number of artists participating and a wide variety of items for sale!
LOCATION:Chapin Chamber of Commerce\, 302 Columbia Avenue\, Chapin SC 29036
UID:e.1644.3563
SEQUENCE:3
DTSTAMP:20260425T193118Z
URL:https://business.chapinchamber.com/events/details/potters-of-chapin-pottery-sale-3563
END:VEVENT

END:VCALENDAR
