BEGIN:VCALENDAR
VERSION:2.0
PRODID:-//ChamberMaster//Event Calendar 2.0//EN
METHOD:PUBLISH
X-PUBLISHED-TTL:P3D
REFRESH-INTERVAL:P3D
CALSCALE:GREGORIAN
BEGIN:VEVENT
DTSTART;VALUE=DATE:20180822
DTEND;VALUE=DATE:20180823
TRANSP:TRANSPARENT
X-MICROSOFT-CDO-ALLDAYEVENT:TRUE
SUMMARY:Pre-Planning Educational Seminar
DESCRIPTION:Generations Senior Care & Caughman Harman Funeral Home invite you to their Pre-Planning Educational Seminar. Hors D"oeuvres will be served.
X-ALT-DESC;FMTTYPE=text/html:Generations Senior Care &amp\; Caughman Harman Funeral Home invite you to their Pre-Planning Educational Seminar. Hors D&quot\;oeuvres will be served.&nbsp\;
LOCATION:Southwoode Clubhouse - 45 Southwoode Circle\, Chapin SC
UID:e.1644.2216
SEQUENCE:3
DTSTAMP:20260422T201448Z
URL:https://business.chapinchamber.com/events/details/pre-planning-educational-seminar-2216
END:VEVENT

END:VCALENDAR
