BEGIN:VCALENDAR
VERSION:2.0
PRODID:-//ChamberMaster//Event Calendar 2.0//EN
METHOD:PUBLISH
X-PUBLISHED-TTL:P3D
REFRESH-INTERVAL:P3D
CALSCALE:GREGORIAN
BEGIN:VEVENT
DTSTART:20191122T170000Z
DTEND:20191122T230000Z
X-MICROSOFT-CDO-ALLDAYEVENT:FALSE
SUMMARY:Quality Life Solutions Anniversary Party
DESCRIPTION:Join in the celebration for Quality Life Solutions as they celebrate being in business for 15 years!  They will be celebrating with Live music by Doug Barker (Acoustic) & the Time Pirates.  There will be food and door prizes every hour!
X-ALT-DESC;FMTTYPE=text/html:Join in the celebration for Quality Life Solutions as they celebrate being in business for 15 years!&nbsp\; They will be celebrating with Live music by Doug Barker (Acoustic) &amp\; the Time Pirates.&nbsp\; There will be food and door prizes every hour!&nbsp\;&nbsp\;
LOCATION:120 Westwoods Drive\, Chapin SC
UID:e.1644.3566
SEQUENCE:3
DTSTAMP:20260425T211354Z
URL:https://business.chapinchamber.com/events/details/quality-life-solutions-anniversary-party-3566
END:VEVENT

END:VCALENDAR
