BEGIN:VCALENDAR
VERSION:2.0
PRODID:-//ChamberMaster//Event Calendar 2.0//EN
METHOD:PUBLISH
X-PUBLISHED-TTL:P3D
REFRESH-INTERVAL:P3D
CALSCALE:GREGORIAN
BEGIN:VEVENT
DTSTART:20180620T210000Z
DTEND:20180620T220000Z
X-MICROSOFT-CDO-ALLDAYEVENT:FALSE
SUMMARY:Rainbow International Chapin Grand Opening & Ribbon Cutting
DESCRIPTION:Rainbow Internationsl is happy to officially call Chapin their new corporate headquarters. Come share the moment\, tour their new facility and be a part of their Chapin Grand Opening & Ribbon Cutting. RSVP is requested.
X-ALT-DESC;FMTTYPE=text/html:<span style="color: rgb(68\, 68\, 68)\; font-family: OpenSansRegular\; font-size: 14px\; background-color: rgb(255\, 255\, 255)\;">Rainbow Internationsl is happy to officially call Chapin their new corporate headquarters. Come share the moment\, tour their new facility and be a part of their Chapin Grand Opening &amp\; Ribbon Cutting. RSVP is requested.</span>
LOCATION:450 E Boundary Street\, Chapin SC 29036
UID:e.1644.2186
SEQUENCE:3
DTSTAMP:20260423T000552Z
URL:https://business.chapinchamber.com/events/details/rainbow-international-chapin-grand-opening-ribbon-cutting-2186
END:VEVENT

END:VCALENDAR
