BEGIN:VCALENDAR
VERSION:2.0
PRODID:-//ChamberMaster//Event Calendar 2.0//EN
METHOD:PUBLISH
X-PUBLISHED-TTL:P3D
REFRESH-INTERVAL:P3D
CALSCALE:GREGORIAN
BEGIN:VEVENT
DTSTART:20180609T130000Z
DTEND:20180609T160000Z
X-MICROSOFT-CDO-ALLDAYEVENT:FALSE
SUMMARY:Rainbow International Restoration Job Fair
DESCRIPTION:Join a team of professionals dedicated to restoring customers lives and property to a pre-loss condition. Supportive and friendly environment with career advancement opportunities. Full time positions available-interview on the spot!
X-ALT-DESC;FMTTYPE=text/html:Join a team of professionals dedicated to restoring customers lives and property to a pre-loss condition. Supportive and friendly environment with career advancement opportunities. Full time positions available-interview on the spot!
LOCATION:Rainbow International Chapin 450 East Boundary Street\, Chapin SC 29036
UID:e.1644.2187
SEQUENCE:3
DTSTAMP:20260423T015705Z
URL:https://business.chapinchamber.com/events/details/rainbow-international-restoration-job-fair-2187
END:VEVENT

END:VCALENDAR
