BEGIN:VCALENDAR
VERSION:2.0
PRODID:-//ChamberMaster//Event Calendar 2.0//EN
METHOD:PUBLISH
X-PUBLISHED-TTL:P3D
REFRESH-INTERVAL:P3D
CALSCALE:GREGORIAN
BEGIN:VEVENT
DTSTART:20180621T210000Z
DTEND:20180622T000000Z
X-MICROSOFT-CDO-ALLDAYEVENT:FALSE
SUMMARY:RE/MAX Grand Re-Opening/Ribbon Cutting
DESCRIPTION:Please join the staff at RE/MAX for their Grand Re-Opening/Ribbon Cutting as they announce their name change to RE/MAX AT THE LAKE!
X-ALT-DESC;FMTTYPE=text/html:Please join the staff at RE/MAX for their Grand Re-Opening/Ribbon Cutting as they announce their name change to RE/MAX AT THE LAKE!
LOCATION:RE/MAX office\, 1303 Chapin Road\, Chapin SC
UID:e.1644.2184
SEQUENCE:3
DTSTAMP:20260423T014829Z
URL:https://business.chapinchamber.com/events/details/re-max-grand-re-opening-ribbon-cutting-2184
END:VEVENT

END:VCALENDAR
