BEGIN:VCALENDAR
VERSION:2.0
PRODID:-//ChamberMaster//Event Calendar 2.0//EN
METHOD:PUBLISH
X-PUBLISHED-TTL:P3D
REFRESH-INTERVAL:P3D
CALSCALE:GREGORIAN
BEGIN:VEVENT
DTSTART:20190301T124000Z
DTEND:20190301T150000Z
X-MICROSOFT-CDO-ALLDAYEVENT:FALSE
SUMMARY:Read Across America - CIS read to students
DESCRIPTION:National Education Association (NEA's) Read Across America is an annual reading motivation and awareness program that calls for every child in every community to celebrate reading on March 2\, the birthday of beloved children's author Dr. Seuss.\n\nChapin Intermediate School wants to bring the celebration of reading and literacy into their school on Friday March 1st!\n\nThey are asking for volunteers\, including our Chamber Members to read to their classes on this day between\n\n7:40 a.m. and 10:00 a.m.\n\nGuests can sign up for 1-2 slots and\n\nthey are in need of 8 volunteers\n\nper 15 minute time slot.
X-ALT-DESC;FMTTYPE=text/html:<div align="center" style="color: rgb(64\, 63\, 66)\; font-family: Arial\, Verdana\, Helvetica\, sans-serif\; font-size: 12px\; background-color: rgb(255\, 255\, 255)\; text-align: center\;"><span style="font-size: 14px\; color: rgb(0\, 0\, 0)\;">National Education Association (NEA&#39\;s) Read Across America is an annual reading motivation and awareness program that calls for every child in every community to celebrate reading on March 2\, the birthday of beloved children&#39\;s author Dr. Seuss.</span></div>\n\n<div align="center" style="color: rgb(64\, 63\, 66)\; font-family: Arial\, Verdana\, Helvetica\, sans-serif\; font-size: 12px\; background-color: rgb(255\, 255\, 255)\; text-align: center\;"><span style="font-size: 14px\; color: rgb(0\, 0\, 0)\;">Chapin Intermediate School wants to bring the celebration of reading and literacy into their school on&nbsp\;</span><span style="font-size: 14px\; color: rgb(0\, 0\, 0)\; font-weight: bold\;">Friday March 1st!</span></div>\n\n<div align="center" style="color: rgb(64\, 63\, 66)\; font-family: Arial\, Verdana\, Helvetica\, sans-serif\; font-size: 12px\; background-color: rgb(255\, 255\, 255)\; text-align: center\;"><span style="font-size: 14px\; color: rgb(0\, 0\, 0)\;">They are asking for volunteers\, including our Chamber Members to read to their classes on this day between</span></div>\n\n<div align="center" style="color: rgb(64\, 63\, 66)\; font-family: Arial\, Verdana\, Helvetica\, sans-serif\; font-size: 12px\; background-color: rgb(255\, 255\, 255)\; text-align: center\;"><span style="font-size: 14px\; color: rgb(0\, 0\, 0)\; font-weight: bold\;">7:40 a.m. and 10:00 a.m.</span></div>\n\n<div align="center" style="color: rgb(64\, 63\, 66)\; font-family: Arial\, Verdana\, Helvetica\, sans-serif\; font-size: 12px\; background-color: rgb(255\, 255\, 255)\; text-align: center\;"><span style="font-size: 14px\; color: rgb(0\, 0\, 0)\;">Guests can sign up for 1-2 slots and</span></div>\n\n<div align="center" style="color: rgb(64\, 63\, 66)\; font-family: Arial\, Verdana\, Helvetica\, sans-serif\; font-size: 12px\; background-color: rgb(255\, 255\, 255)\; text-align: center\;"><span style="font-size: 14px\; color: rgb(0\, 0\, 0)\;">they are in need of 8 volunteers</span></div>\n\n<div align="center" style="color: rgb(64\, 63\, 66)\; font-family: Arial\, Verdana\, Helvetica\, sans-serif\; font-size: 12px\; background-color: rgb(255\, 255\, 255)\; text-align: center\;"><span style="font-size: 14px\; color: rgb(0\, 0\, 0)\;">per 15 minute time slot.</span></div>\n
LOCATION:Chapin Intermediate School - 1130 Old Lexington Hwy\, Chapin SC
UID:e.1644.2362
SEQUENCE:3
DTSTAMP:20260422T074256Z
URL:https://business.chapinchamber.com/events/details/read-across-america-cis-read-to-students-2362
END:VEVENT

END:VCALENDAR
