BEGIN:VCALENDAR
VERSION:2.0
PRODID:-//ChamberMaster//Event Calendar 2.0//EN
METHOD:PUBLISH
X-PUBLISHED-TTL:P3D
REFRESH-INTERVAL:P3D
CALSCALE:GREGORIAN
BEGIN:VEVENT
DTSTART:20190117T223000Z
DTEND:20190117T233000Z
X-MICROSOFT-CDO-ALLDAYEVENT:FALSE
SUMMARY:Ribbon Cutting Ceremony for Chadwick's Barbershop
DESCRIPTION:Come and check out Chad's new store location and celebrate with a ribbon cutting ceremony!
X-ALT-DESC;FMTTYPE=text/html:Come and check out Chad&#39\;s new store location and celebrate with a ribbon cutting ceremony!
LOCATION:203 Amicks Ferry Road\, Chapin SC
UID:e.1644.2290
SEQUENCE:3
DTSTAMP:20260422T105642Z
URL:https://business.chapinchamber.com/events/details/ribbon-cutting-ceremony-for-chadwick-s-barbershop-2290
END:VEVENT

END:VCALENDAR
