BEGIN:VCALENDAR
VERSION:2.0
PRODID:-//ChamberMaster//Event Calendar 2.0//EN
METHOD:PUBLISH
X-PUBLISHED-TTL:P3D
REFRESH-INTERVAL:P3D
CALSCALE:GREGORIAN
BEGIN:VEVENT
DTSTART:20190404T213000Z
DTEND:20190404T223000Z
X-MICROSOFT-CDO-ALLDAYEVENT:FALSE
SUMMARY:Ribbon Cutting for Endless Vitality
DESCRIPTION:Please join us as we welcome Endless Vitality to the Chapin Chamber and Chapin Community.
X-ALT-DESC;FMTTYPE=text/html:<span style="color: rgb(68\, 68\, 68)\; font-family: OpenSansRegular\; font-size: 14px\; background-color: rgb(255\, 255\, 255)\;">Please join us as we welcome Endless Vitality to the Chapin Chamber and Chapin Community.</span>
LOCATION:500 Lexington Avenue\, Suite B Chapin
UID:e.1644.2414
SEQUENCE:3
DTSTAMP:20260422T055050Z
URL:https://business.chapinchamber.com/events/details/ribbon-cutting-for-endless-vitality-2414
END:VEVENT

END:VCALENDAR
