BEGIN:VCALENDAR
VERSION:2.0
PRODID:-//ChamberMaster//Event Calendar 2.0//EN
METHOD:PUBLISH
X-PUBLISHED-TTL:P3D
REFRESH-INTERVAL:P3D
CALSCALE:GREGORIAN
BEGIN:VEVENT
DTSTART:20190508T213000Z
DTEND:20190508T223000Z
X-MICROSOFT-CDO-ALLDAYEVENT:FALSE
SUMMARY:Ribbon Cutting for Hardee's of Chapin
DESCRIPTION:Please join us as we celebrate a business who has been in Chapin for many years with a Chamber ribbon cutting.\n\nAs a promotion they are offering two\n\nroast beef sandwich's for only $5.00!
X-ALT-DESC;FMTTYPE=text/html:<div align="center" style="color: rgb(64\, 63\, 66)\; font-family: Arial\, Verdana\, Helvetica\, sans-serif\; font-size: 14px\; background-color: rgb(255\, 255\, 255)\; text-align: center\;"><span style="color: rgb(0\, 0\, 0)\;">Please join us as we celebrate a business who has been in Chapin for many years with a Chamber ribbon cutting.</span></div>\n\n<div align="center" style="color: rgb(64\, 63\, 66)\; font-family: Arial\, Verdana\, Helvetica\, sans-serif\; font-size: 14px\; background-color: rgb(255\, 255\, 255)\; text-align: center\;"><span style="color: rgb(0\, 0\, 0)\;">As a promotion they are offering two</span></div>\n\n<div align="center" style="color: rgb(64\, 63\, 66)\; font-family: Arial\, Verdana\, Helvetica\, sans-serif\; font-size: 14px\; background-color: rgb(255\, 255\, 255)\; text-align: center\;"><span style="color: rgb(0\, 0\, 0)\;">roast beef sandwich&#39\;s for only $5.00!</span></div>\n
LOCATION:Hardee's of Chapin - 1425 Chapin Road\, Chapin SC
UID:e.1644.2436
SEQUENCE:3
DTSTAMP:20260422T040348Z
URL:https://business.chapinchamber.com/events/details/ribbon-cutting-for-hardee-s-of-chapin-2436
END:VEVENT

END:VCALENDAR
