BEGIN:VCALENDAR
VERSION:2.0
PRODID:-//ChamberMaster//Event Calendar 2.0//EN
METHOD:PUBLISH
X-PUBLISHED-TTL:P3D
REFRESH-INTERVAL:P3D
CALSCALE:GREGORIAN
BEGIN:VEVENT
DTSTART:20191106T223000Z
DTEND:20191106T233000Z
X-MICROSOFT-CDO-ALLDAYEVENT:FALSE
SUMMARY:Ribbon Cutting for Midland Hearing Associates
DESCRIPTION:Ribbon Cutting ceremony for Midland Hearing Associates @ 485 Chapin Road\, Suite A\, Chapin. Choosing a hearing professional is one of the most important decisions a hearing impaired person can make. Please come out and talk to the Doctors and staff at this new Chapin location!
X-ALT-DESC;FMTTYPE=text/html:Ribbon Cutting ceremony for Midland Hearing Associates @ 485 Chapin Road\, Suite A\, Chapin. Choosing a hearing professional&nbsp\;is one of the most important decisions a hearing impaired person can make. Please come out and talk to the Doctors and staff at this new Chapin location!
LOCATION:485 Chapin Road\, Suite A Chapin
UID:e.1644.3548
SEQUENCE:3
DTSTAMP:20260425T212054Z
URL:https://business.chapinchamber.com/events/details/ribbon-cutting-for-midland-hearing-associates-3548
END:VEVENT

END:VCALENDAR
