BEGIN:VCALENDAR
VERSION:2.0
PRODID:-//ChamberMaster//Event Calendar 2.0//EN
METHOD:PUBLISH
X-PUBLISHED-TTL:P3D
REFRESH-INTERVAL:P3D
CALSCALE:GREGORIAN
BEGIN:VEVENT
DTSTART:20191112T220000Z
DTEND:20191112T230000Z
X-MICROSOFT-CDO-ALLDAYEVENT:FALSE
SUMMARY:Ribbon Cutting for Miss Cocky Boutique
DESCRIPTION:Always in touch with the latest trends\, Miss Cocky has become a staple for those seeking Gamecock fashion\, accessories and more.  What a great time to see what Miss Cocky has to offer and to say welcome to Marlo and her staff!
X-ALT-DESC;FMTTYPE=text/html:Always in touch with the latest trends\, Miss Cocky has become a staple for those seeking Gamecock fashion\, accessories and more.&nbsp\; What a great time to see what Miss Cocky has to offer and to say welcome to Marlo and her staff!
LOCATION:119 Clark Street\, Chapin SC
UID:e.1644.3547
SEQUENCE:3
DTSTAMP:20260425T215101Z
URL:https://business.chapinchamber.com/events/details/ribbon-cutting-for-miss-cocky-boutique-3547
END:VEVENT

END:VCALENDAR
