BEGIN:VCALENDAR
VERSION:2.0
PRODID:-//ChamberMaster//Event Calendar 2.0//EN
METHOD:PUBLISH
X-PUBLISHED-TTL:P3D
REFRESH-INTERVAL:P3D
CALSCALE:GREGORIAN
BEGIN:VEVENT
DTSTART:20241002T200000Z
DTEND:20240918T210000Z
X-MICROSOFT-CDO-ALLDAYEVENT:FALSE
SUMMARY:Ribbon Cutting: Sweet Izzy's
DESCRIPTION:
X-ALT-DESC;FMTTYPE=text/html:
LOCATION:
UID:e.1644.5908
SEQUENCE:3
DTSTAMP:20260425T134850Z
URL:https://business.chapinchamber.com/events/details/ribbon-cutting-sweet-izzy-s-5908
END:VEVENT

END:VCALENDAR
