BEGIN:VCALENDAR
VERSION:2.0
PRODID:-//ChamberMaster//Event Calendar 2.0//EN
METHOD:PUBLISH
X-PUBLISHED-TTL:P3D
REFRESH-INTERVAL:P3D
CALSCALE:GREGORIAN
BEGIN:VEVENT
DTSTART:20200101T010000Z
DTEND:20200101T050000Z
X-MICROSOFT-CDO-ALLDAYEVENT:FALSE
SUMMARY:Roaring 20s NYE Celebration at Purple Martin
DESCRIPTION:New Year's Eve celebration at Purple Martin to ring in the roaring 20s! Dinner\, music\, snacks and a champagne toast at midnight will be provided. Reservations are required. Call this number to reserve your spot: 803-345-9909
X-ALT-DESC;FMTTYPE=text/html:New Year&#39\;s Eve celebration at Purple Martin to ring in the roaring 20s! Dinner\, music\, snacks and a champagne toast at midnight will be provided. Reservations are required. Call this number to reserve your spot: 803-345-9909
LOCATION:Timberlake Country Club 222 Timberlake Dr Chapin\, SC 29036
UID:e.1644.3592
SEQUENCE:3
DTSTAMP:20260425T192840Z
URL:https://business.chapinchamber.com/events/details/roaring-20s-nye-celebration-at-purple-martin-3592
END:VEVENT

END:VCALENDAR
