BEGIN:VCALENDAR
VERSION:2.0
PRODID:-//ChamberMaster//Event Calendar 2.0//EN
METHOD:PUBLISH
X-PUBLISHED-TTL:P3D
REFRESH-INTERVAL:P3D
CALSCALE:GREGORIAN
BEGIN:VEVENT
DTSTART:20190330T230000Z
DTEND:20190331T020000Z
X-MICROSOFT-CDO-ALLDAYEVENT:FALSE
SUMMARY:Rotary Club of Chapin Sunrise - Boots & BBQ
DESCRIPTION:Join the Rotary Club at Chapin Town Hall for an evening of Live Music\, featuring Golden Steel\, Dancing\, Auction and BBQ Catered by Little Pigs
X-ALT-DESC;FMTTYPE=text/html:Join the Rotary Club at Chapin Town Hall for an evening of Live Music\, featuring Golden Steel\, Dancing\, Auction and BBQ Catered by Little Pigs
LOCATION:Chapin Town Hall - 157 NW Columbia Avenue\, Chapin SC
UID:e.1644.2405
SEQUENCE:3
DTSTAMP:20260422T075419Z
URL:https://business.chapinchamber.com/events/details/rotary-club-of-chapin-sunrise-boots-bbq-2405
END:VEVENT

END:VCALENDAR
