BEGIN:VCALENDAR
VERSION:2.0
PRODID:-//ChamberMaster//Event Calendar 2.0//EN
METHOD:PUBLISH
X-PUBLISHED-TTL:P3D
REFRESH-INTERVAL:P3D
CALSCALE:GREGORIAN
BEGIN:VEVENT
DTSTART:20190918T160000Z
DTEND:20190918T170000Z
X-MICROSOFT-CDO-ALLDAYEVENT:FALSE
SUMMARY:SC Chamber Grassroots Tour
DESCRIPTION:On September 18th\, we will be hosting the South Carolina Chamber of Commerce at the Chamber House as part of their SC Grassroots Tour. Each year\, the State Chamber hits the road to hear from business leaders across the state about the issues facing their companies.  The Grassroots Tour is part of the South Carolina Chamber Alliance Partnership that connects the state\, regional and local Chambers of Commerce and their members.  The feedback received from this meeting will help shape the 2020 Competitiveness Agenda\, which lays out the business community's priorities for next year's legislative session.  This is a great opportunity for our Chapin business owners and business leaders to have a voice with the State Chamber.
X-ALT-DESC;FMTTYPE=text/html:<span style="font-size:14px\;"><span style="font-family:arial\;"><span style="background-color: rgb(255\, 255\, 255)\;">On September 18th\, we will be hosting the South Carolina Chamber of Commerce at the Chamber House as part of their SC Grassroots Tour. Each year\, the State Chamber hits the road to hear from business leaders across the state about the issues facing their companies.&nbsp\; The Grassroots Tour is part of the South Carolina Chamber Alliance Partnership that connects the state\, regional and local Chambers of Commerce and their members.&nbsp\; The feedback received from this meeting will help shape the 2020 Competitiveness Agenda\, which lays out the business community&#39\;s priorities for next year&#39\;s legislative session.&nbsp\; This is a great opportunity for our Chapin business owners and business leaders to have a voice with the State Chamber.&nbsp\;&nbsp\;</span></span></span>
LOCATION:Chapin Chamber of Commerce - 302 Columbia Avenue\, Chapin SC
UID:e.1644.2502
SEQUENCE:3
DTSTAMP:20260426T004214Z
URL:https://business.chapinchamber.com/events/details/sc-chamber-grassroots-tour-2502
END:VEVENT

END:VCALENDAR
