BEGIN:VCALENDAR
VERSION:2.0
PRODID:-//ChamberMaster//Event Calendar 2.0//EN
METHOD:PUBLISH
X-PUBLISHED-TTL:P3D
REFRESH-INTERVAL:P3D
CALSCALE:GREGORIAN
BEGIN:VEVENT
DTSTART:20190919T160000Z
DTEND:20190919T173000Z
X-MICROSOFT-CDO-ALLDAYEVENT:FALSE
SUMMARY:September Member Luncheon hosted by Prisma Health
DESCRIPTION:Please join us for our September Member Luncheon to be held at Mt. Horeb Church here in Chapin.  This luncheon will be hosted by Prisma Health and Dawn Hunt\, breast cancer survivor and chair of the 2019 Walk for Life and Famously Hot Pink Half Marathon\, 5K & 10K will be our speaker.
X-ALT-DESC;FMTTYPE=text/html:Please join us for our September Member Luncheon to be held at Mt. Horeb Church here in Chapin.&nbsp\; This luncheon will be hosted by Prisma Health and Dawn Hunt\, breast cancer survivor and chair of the 2019 Walk for Life and Famously Hot Pink Half Marathon\, 5K &amp\; 10K will be our speaker.&nbsp\;
LOCATION:Mt. Horeb Church - 101 E Boundary Street\, Chapin
UID:e.1644.2505
SEQUENCE:3
DTSTAMP:20260425T231738Z
URL:https://business.chapinchamber.com/events/details/september-member-luncheon-hosted-by-prisma-health-2505
END:VEVENT

END:VCALENDAR
