BEGIN:VCALENDAR
VERSION:2.0
PRODID:-//ChamberMaster//Event Calendar 2.0//EN
METHOD:PUBLISH
X-PUBLISHED-TTL:P3D
REFRESH-INTERVAL:P3D
CALSCALE:GREGORIAN
BEGIN:VEVENT
DTSTART:20180920T160000Z
DTEND:20180920T173000Z
X-MICROSOFT-CDO-ALLDAYEVENT:FALSE
SUMMARY:September Monthly Member Luncheon
DESCRIPTION:This Lunch and Learn member meeting will be sponsored by Palmetto Health. Topic of conversation TBA\nJ Peters will be catering this luncheon and will be providing an array of wraps and sandwiches as well as seasonal veggies and loaded mashed potatoes!\n\nKeep checking back as the registration link will be completed soon!
X-ALT-DESC;FMTTYPE=text/html:<span style="font-size:16px\;"><span style="font-family:comic sans ms\;">This Lunch and Learn member meeting will be sponsored by Palmetto Health. Topic of conversation TBA</span></span>\n<p style="color: rgb(51\, 51\, 51)\; font-family: sans-serif\, Arial\, Verdana\, &quot\;Trebuchet MS&quot\;\; font-size: 13px\;"><span style="font-size:16px\;"><span style="font-family:comic sans ms\;"><span class="aBn" data-term="goog_1564855434" tabindex="0">J&nbsp\;</span>Peters will be catering this luncheon and will be providing an array of wraps and sandwiches as well as seasonal veggies and loaded mashed potatoes!</span></span></p>\n\n<p style="color: rgb(51\, 51\, 51)\; font-family: sans-serif\, Arial\, Verdana\, &quot\;Trebuchet MS&quot\;\; font-size: 13px\;"><span style="font-size:16px\;"><span style="font-family:comic sans ms\;">Keep checking back as the registration link will be completed soon!</span></span></p>\n
LOCATION:We will meet at Mt. Horeb Lutheran Church\, 101 East Boundary Street\, Chapin
UID:e.1644.1141
SEQUENCE:3
DTSTAMP:20260422T182904Z
URL:https://business.chapinchamber.com/events/details/september-monthly-member-luncheon-1141
END:VEVENT

END:VCALENDAR
