BEGIN:VCALENDAR
VERSION:2.0
PRODID:-//ChamberMaster//Event Calendar 2.0//EN
METHOD:PUBLISH
X-PUBLISHED-TTL:P3D
REFRESH-INTERVAL:P3D
CALSCALE:GREGORIAN
BEGIN:VEVENT
DTSTART:20180728T230000Z
DTEND:20180729T030000Z
X-MICROSOFT-CDO-ALLDAYEVENT:FALSE
SUMMARY:Shaggin' On Beaufort Street
DESCRIPTION:The Chapin Woman's Club is "Making a Splash" in our Community!  Featuring\n\nDJ - Roger Daley.  Beach Music\, Door Prizes\, Food Trucks\, Drinks available.  Bring your chairs\; however\, no coolers please.
X-ALT-DESC;FMTTYPE=text/html:The Chapin Woman&#39\;s Club is &quot\;Making a Splash&quot\; in our Community!&nbsp\; Featuring<br />\nDJ - Roger Daley.&nbsp\; Beach Music\, Door Prizes\, Food Trucks\, Drinks available.&nbsp\; Bring your chairs\; however\, no coolers please.&nbsp\;
LOCATION:Hosted by the Chapin Woman's Club & The Tipsy Toad Tavern - 103 Beaufort Street\, Chapin
UID:e.1644.2189
SEQUENCE:3
DTSTAMP:20260422T220420Z
URL:https://business.chapinchamber.com/events/details/shaggin-on-beaufort-street-2189
END:VEVENT

END:VCALENDAR
