BEGIN:VCALENDAR
VERSION:2.0
PRODID:-//ChamberMaster//Event Calendar 2.0//EN
METHOD:PUBLISH
X-PUBLISHED-TTL:P3D
REFRESH-INTERVAL:P3D
CALSCALE:GREGORIAN
BEGIN:VEVENT
DTSTART:20191123T000000Z
DTEND:20191123T020000Z
X-MICROSOFT-CDO-ALLDAYEVENT:FALSE
SUMMARY:Shoot Down Cancer - Chapin Madness
DESCRIPTION:Come out and support Coach Snelgrove's fight against cancer! \n\nSeason preview for the 2019 Varsity Boys & Girls Basketball Teams
X-ALT-DESC;FMTTYPE=text/html:Come out and support Coach Snelgrove&#39\;s fight against cancer!&nbsp\;<br />\nSeason preview for the 2019 Varsity Boys &amp\; Girls Basketball Teams
LOCATION:Chapin High School Arena - 300 Columbia Avenue\, Chapin
UID:e.1644.3569
SEQUENCE:3
DTSTAMP:20260425T211407Z
URL:https://business.chapinchamber.com/events/details/shoot-down-cancer-chapin-madness-3569
END:VEVENT

END:VCALENDAR
