BEGIN:VCALENDAR
VERSION:2.0
PRODID:-//ChamberMaster//Event Calendar 2.0//EN
METHOD:PUBLISH
X-PUBLISHED-TTL:P3D
REFRESH-INTERVAL:P3D
CALSCALE:GREGORIAN
BEGIN:VEVENT
DTSTART:20190502T233000Z
DTEND:20190503T003000Z
X-MICROSOFT-CDO-ALLDAYEVENT:FALSE
SUMMARY:"Sing me to Heaven”
DESCRIPTION:The Dutch Fork Choral Society presents "Sing me to Heaven"\, 7:30 PM Thursday\, May 2\, 2019\, at Chapin United Methodist Church\, 415 Lexington Ave\, Chapin\, SC 29036. The concert features a wonderful variety of pieces\, with selections of choral works from folk\, gospel\, spirituals\, and classical origin. Free to the public. (Donations graciously accepted). Kirstina Rasmussen Collins\, Artistic Director\, and Bradley Fuller\, accompanist. Questions? Call Jim Buck\, at (803) 318-0488 or (803) 414-2222\; www.dutchforkchoralsociety.com\, info@dutchforkchoralsociety.com
X-ALT-DESC;FMTTYPE=text/html:The Dutch Fork Choral Society presents &quot\;Sing me to Heaven&rdquo\;\, 7:30 PM Thursday\, May 2\, 2019\, at Chapin United Methodist Church\, 415 Lexington Ave\, Chapin\, SC 29036. The concert features a wonderful variety of pieces\, with selections of choral works from folk\, gospel\, spirituals\, and classical origin. Free to the public. (Donations graciously accepted). Kirstina Rasmussen Collins\, Artistic Director\, and Bradley Fuller\, accompanist. Questions? Call Jim Buck\, at (803) 318-0488 or (803) 414-2222\; www.dutchforkchoralsociety.com\, info@dutchforkchoralsociety.com
LOCATION:Chapin United Methodist Church
UID:e.1644.2433
SEQUENCE:3
DTSTAMP:20260422T035911Z
URL:https://business.chapinchamber.com/events/details/sing-me-to-heaven-2433
END:VEVENT

END:VCALENDAR
