BEGIN:VCALENDAR
VERSION:2.0
PRODID:-//ChamberMaster//Event Calendar 2.0//EN
METHOD:PUBLISH
X-PUBLISHED-TTL:P3D
REFRESH-INTERVAL:P3D
CALSCALE:GREGORIAN
BEGIN:VEVENT
DTSTART:20180614T213000Z
DTEND:20180614T230000Z
X-MICROSOFT-CDO-ALLDAYEVENT:FALSE
SUMMARY:Sizzlin' Summer Business Expo 2018
DESCRIPTION:Join us\, along with the Newberry Chamber\, for our annual Summer Sizzlin' Joint Business Expo.  Looking to grow your business? This event is designed to help businesses from here and surrounding areas connect with one another\, expand their brand and showcase their products & services to both their peers and residents of the community.  This Expo is FREE and open to the public. Display Tables are $100.00 per business for Chamber Members and $150.00 for Non-Members. Thinking of joining the Chamber? Contact April - april@chapinchamber.com  Click HERE to register.  Space is limited and will be filled on a first come first serve basis.
X-ALT-DESC;FMTTYPE=text/html:<p>Join us\, along with the Newberry Chamber\, for our annual Summer Sizzlin&#39\; Joint Business Expo.&nbsp\; Looking to grow your business? This event is designed to help businesses from here and surrounding areas connect with one another\, expand their brand and showcase their products &amp\; services to both their peers and residents of the community.&nbsp\; This Expo is FREE and open to the public.&nbsp\;<span style="color: rgb(51\, 51\, 51)\; font-family: sans-serif\, Arial\, Verdana\, &quot\;Trebuchet MS&quot\;\; font-size: 13px\; background-color: rgb(255\, 255\, 255)\;">Display Tables are $100.00 per business for Chamber Members and $150.00 for Non-Members. Thinking of joining the Chamber? Contact April - april@chapinchamber.com&nbsp\; Click <strong><a href="http://events.r20.constantcontact.com/register/event?oeidk=a07efdoznogbc76c495&amp\;llr=4nhemhkab&amp\;showPage=true">HERE</a></strong> to register. &nbsp\;</span>Space is limited and will be filled on a first come first serve basis.&nbsp\;</p>\n
LOCATION:Mid Carolina Country Club 3593 Kiblers Bridge Road\, Prosperity\, SC 29127
UID:e.1644.2183
SEQUENCE:3
DTSTAMP:20260423T000326Z
URL:https://business.chapinchamber.com/events/details/sizzlin-summer-business-expo-2018-2183
END:VEVENT

END:VCALENDAR
