BEGIN:VCALENDAR
VERSION:2.0
PRODID:-//ChamberMaster//Event Calendar 2.0//EN
METHOD:PUBLISH
X-PUBLISHED-TTL:P3D
REFRESH-INTERVAL:P3D
CALSCALE:GREGORIAN
BEGIN:VEVENT
DTSTART:20180727T130000Z
DTEND:20180727T210000Z
X-MICROSOFT-CDO-ALLDAYEVENT:FALSE
SUMMARY:Southern Propane - One Year Anniversary Event!
DESCRIPTION:Visit the owners and staff at Southern Propane for their one year anniversary event!  Free food and drinks.  Register to win a Weber Gas Grill. 15% Off Showroom Items.
X-ALT-DESC;FMTTYPE=text/html:Visit the owners and staff at Southern Propane for their one year anniversary event!&nbsp\; Free food and drinks.&nbsp\; Register to win a Weber Gas Grill. 15% Off Showroom Items.&nbsp\;&nbsp\;
LOCATION:Southern Propane 123 St. Peters Chruch Road\, Chapin
UID:e.1644.2212
SEQUENCE:3
DTSTAMP:20260422T220335Z
URL:https://business.chapinchamber.com/events/details/southern-propane-one-year-anniversary-event-2212
END:VEVENT

END:VCALENDAR
