BEGIN:VCALENDAR
VERSION:2.0
PRODID:-//ChamberMaster//Event Calendar 2.0//EN
METHOD:PUBLISH
X-PUBLISHED-TTL:P3D
REFRESH-INTERVAL:P3D
CALSCALE:GREGORIAN
BEGIN:VEVENT
DTSTART:20180807T200000Z
DTEND:20180807T220000Z
X-MICROSOFT-CDO-ALLDAYEVENT:FALSE
SUMMARY:Southern Stitches Grand Opening/Ribbon Cutting Ceremony
DESCRIPTION:Please join us as we celebrate Southern Stitches with their Grand Opening and Ribbon Cutting Ceremony Tuesday August 7th from 4-6 p.m. The ribbon cutting will commence at 5:30 p.m. Cocktails and light fare will be served. This is your one stop shop for personalization and gifts! They offer monogramming\, embroidery\, appliqu s\, vinyl and also carry some of your favorite brands of women's and children's apparel! Come and meet Samantha and Kerry and snag some grand opening giveaways including a raffle for the grand door prize!
X-ALT-DESC;FMTTYPE=text/html:Please join us as we celebrate Southern Stitches with their Grand Opening and Ribbon Cutting Ceremony Tuesday August 7th from 4-6 p.m. The ribbon cutting will commence at 5:30 p.m. Cocktails and light fare will be served. This is your one stop shop for personalization and gifts! They offer monogramming\, embroidery\, appliqu&eacute\;s\, vinyl and also carry some of your favorite brands of women&#39\;s and children&#39\;s apparel! Come and meet Samantha and Kerry and snag some grand opening giveaways including a raffle for the grand door prize!
LOCATION:Southern Stitches - 508 B Lexington Avenue\, Chapin
UID:e.1644.2211
SEQUENCE:3
DTSTAMP:20260422T220823Z
URL:https://business.chapinchamber.com/events/details/southern-stitches-grand-opening-ribbon-cutting-ceremony-2211
END:VEVENT

END:VCALENDAR
