BEGIN:VCALENDAR
VERSION:2.0
PRODID:-//ChamberMaster//Event Calendar 2.0//EN
METHOD:PUBLISH
X-PUBLISHED-TTL:P3D
REFRESH-INTERVAL:P3D
CALSCALE:GREGORIAN
BEGIN:VEVENT
DTSTART:20191206T170000Z
DTEND:20191207T010000Z
X-MICROSOFT-CDO-ALLDAYEVENT:FALSE
SUMMARY:Southern Stitches Jammie Jingle
DESCRIPTION:Come dressed in your BEST\, MOST COZY JAMMIES to help us celebrated the season with some holiday shopping\, amazing door prizes and drawings\, and hot chocolate and apple cider with a twist!
X-ALT-DESC;FMTTYPE=text/html:Come dressed in your BEST\, MOST COZY JAMMIES to help us celebrated the season with some holiday shopping\, amazing door prizes and drawings\, and hot chocolate and apple cider with a twist!&nbsp\;
LOCATION:Southern Stitches of Chapin - 508 B Lexington Avenue\, Chapin
UID:e.1644.3582
SEQUENCE:3
DTSTAMP:20260425T192948Z
URL:https://business.chapinchamber.com/events/details/southern-stitches-jammie-jingle-3582
END:VEVENT

END:VCALENDAR
