BEGIN:VCALENDAR
VERSION:2.0
PRODID:-//ChamberMaster//Event Calendar 2.0//EN
METHOD:PUBLISH
X-PUBLISHED-TTL:P3D
REFRESH-INTERVAL:P3D
CALSCALE:GREGORIAN
BEGIN:VEVENT
DTSTART:20190317T144500Z
DTEND:20190317T160000Z
X-MICROSOFT-CDO-ALLDAYEVENT:FALSE
SUMMARY:St. Patrick's Day Worship Service - Lake Murray Evangelical Church
DESCRIPTION:You are invited to the 7th annual St. Patrick's Day Worship Service at Lake Murray Evangelical Church in Chapin.  Enjoy a celebration of Irish Music\, a challenging message\, and a dinner of Irish Cuisine - All Free!! Come as you are to this unique and uplifting (and fun) event....and bring a friend!
X-ALT-DESC;FMTTYPE=text/html:You are invited to the 7th annual St. Patrick&#39\;s Day Worship Service at Lake Murray Evangelical Church in Chapin.&nbsp\; Enjoy a celebration of Irish Music\, a challenging message\, and a dinner of Irish Cuisine - All Free!! Come as you are to this unique and uplifting (and fun) event....and bring a friend!&nbsp\;
LOCATION:Lake Murray Evangelical Church - 501 Murray Lindler Road\, Chapin SC Halfway between Old Lexington Hwy and Old Bush River Road
UID:e.1644.2386
SEQUENCE:3
DTSTAMP:20260422T075339Z
URL:https://business.chapinchamber.com/events/details/st-patrick-s-day-worship-service-lake-murray-evangelical-church-2386
END:VEVENT

END:VCALENDAR
