BEGIN:VCALENDAR
VERSION:2.0
PRODID:-//ChamberMaster//Event Calendar 2.0//EN
METHOD:PUBLISH
X-PUBLISHED-TTL:P3D
REFRESH-INTERVAL:P3D
CALSCALE:GREGORIAN
BEGIN:VEVENT
DTSTART:20190504T230000Z
DTEND:20190505T030000Z
X-MICROSOFT-CDO-ALLDAYEVENT:FALSE
SUMMARY:Summer Concert Series and MD Benefit
DESCRIPTION:As part of Chapin's Summer Concert Series\, The Tipsy Toad is holding a benefit for the Muscular Dystrophy Association.  They are sending local kids to MDA Summer Camp and they need your help!\n\nJoin them for good times\, great music and a worthy cause! \n\nRAFFLE ITEMS AND 50/50 CASH PRIZE
X-ALT-DESC;FMTTYPE=text/html:As part of Chapin&#39\;s Summer Concert Series\, The Tipsy Toad is holding a benefit for the Muscular Dystrophy Association.&nbsp\; They are sending local kids to MDA Summer Camp and they need your help!<br />\nJoin them for good times\, great music and a worthy cause!&nbsp\;<br />\nRAFFLE ITEMS AND 50/50 CASH PRIZE
LOCATION:The Tipsy Toad Tavern - 103 C Beaufort Street\, Chapin
UID:e.1644.2447
SEQUENCE:3
DTSTAMP:20260422T040107Z
URL:https://business.chapinchamber.com/events/details/summer-concert-series-and-md-benefit-2447
END:VEVENT

END:VCALENDAR
