BEGIN:VCALENDAR
VERSION:2.0
PRODID:-//ChamberMaster//Event Calendar 2.0//EN
METHOD:PUBLISH
X-PUBLISHED-TTL:P3D
REFRESH-INTERVAL:P3D
CALSCALE:GREGORIAN
BEGIN:VEVENT
DTSTART:20180812T003000Z
DTEND:20180812T023000Z
X-MICROSOFT-CDO-ALLDAYEVENT:FALSE
SUMMARY:Summer Movie at Melvin Park
DESCRIPTION:Bring the family out to Melvin Park for a free movie night - showcasing Disney's Moana!
X-ALT-DESC;FMTTYPE=text/html:Bring the family out to Melvin Park for a free movie night - showcasing Disney&#39\;s Moana!&nbsp\;
LOCATION:Melvin Park - 370 A Eptings Camp Road\, Chapin
UID:e.1644.2215
SEQUENCE:3
DTSTAMP:20260422T201759Z
URL:https://business.chapinchamber.com/events/details/summer-movie-at-melvin-park-2215
END:VEVENT

END:VCALENDAR
