BEGIN:VCALENDAR
VERSION:2.0
PRODID:-//ChamberMaster//Event Calendar 2.0//EN
METHOD:PUBLISH
X-PUBLISHED-TTL:P3D
REFRESH-INTERVAL:P3D
CALSCALE:GREGORIAN
BEGIN:VEVENT
DTSTART:20180714T230000Z
DTEND:20180715T023000Z
X-MICROSOFT-CDO-ALLDAYEVENT:FALSE
SUMMARY:Summer Movie Series at Melvin Park/Extended Splash Pad Hours
DESCRIPTION:The Greatest Showman - Free Movie Night - Melvin Park\n\nAlso\, Extended Splash Park hours from!  \n\nPelican's SnoBalls and Brain Freeze will be onsite
X-ALT-DESC;FMTTYPE=text/html:The Greatest Showman - Free Movie Night - Melvin Park<br />\nAlso\, Extended Splash Park hours from!&nbsp\;&nbsp\;<br />\nPelican&#39\;s SnoBalls and Brain Freeze will be onsite
LOCATION:370A Eptings Camp Road\, Chapin\, SC
UID:e.1644.2210
SEQUENCE:3
DTSTAMP:20260422T221011Z
URL:https://business.chapinchamber.com/events/details/summer-movie-series-at-melvin-park-extended-splash-pad-hours-2210
END:VEVENT

END:VCALENDAR
