BEGIN:VCALENDAR
VERSION:2.0
PRODID:-//ChamberMaster//Event Calendar 2.0//EN
METHOD:PUBLISH
X-PUBLISHED-TTL:P3D
REFRESH-INTERVAL:P3D
CALSCALE:GREGORIAN
BEGIN:VEVENT
DTSTART;VALUE=DATE:20191128
DTEND;VALUE=DATE:20191202
TRANSP:TRANSPARENT
X-MICROSOFT-CDO-ALLDAYEVENT:TRUE
SUMMARY:Thanksgiving Holiday - Chamber Office Closed
DESCRIPTION:As we take time to reflect on what we are thankful for next week\, the Chamber Board and Staff would like to convey our deep felt appreciation for the businesses of our community\, our chamber volunteers and members. \n\nWe are thankful for you and your decision to be part of our business community and the Chamber. \n\nWe wish you all a wonderful Thanksgiving Holiday Weekend\n\nwith family and friends. Please note that our office will be closed Thursday November 28th and Friday November 29th. We will re-open for business Monday December 2nd.
X-ALT-DESC;FMTTYPE=text/html:<div style="color: rgb(64\, 63\, 66)\; font-family: Arial\, Verdana\, Helvetica\, sans-serif\; font-size: 14px\; white-space: pre-wrap\; background-color: rgb(255\, 255\, 255)\; text-align: center\;"><span style="font-size: 16px\; color: rgb(0\, 0\, 0)\;">As we take time to reflect on what we are thankful for next week\, the Chamber Board and Staff would like to convey our deep felt appreciation for the businesses of our community\, our chamber volunteers and members. </span></div>\n\n<div style="color: rgb(64\, 63\, 66)\; font-family: Arial\, Verdana\, Helvetica\, sans-serif\; font-size: 14px\; white-space: pre-wrap\; background-color: rgb(255\, 255\, 255)\; text-align: center\;"><span style="font-size: 16px\; color: rgb(0\, 0\, 0)\;">We are thankful for you and your decision to be part of our business community and the Chamber. </span></div>\n\n<div style="color: rgb(64\, 63\, 66)\; font-family: Arial\, Verdana\, Helvetica\, sans-serif\; font-size: 14px\; white-space: pre-wrap\; background-color: rgb(255\, 255\, 255)\; text-align: center\;"><span style="font-size: 16px\; color: rgb(0\, 0\, 0)\;">We wish you all a wonderful Thanksgiving Holiday Weekend</span></div>\n\n<div style="color: rgb(64\, 63\, 66)\; font-family: Arial\, Verdana\, Helvetica\, sans-serif\; font-size: 14px\; white-space: pre-wrap\; background-color: rgb(255\, 255\, 255)\; text-align: center\;"><span style="font-size: 16px\; color: rgb(0\, 0\, 0)\;">with family and friends. Please note that our office will be closed Thursday November 28th and Friday November 29th. We will re-open for business Monday December 2nd. </span></div>\n
LOCATION:
UID:e.1644.3565
SEQUENCE:3
DTSTAMP:20260425T192830Z
URL:https://business.chapinchamber.com/events/details/thanksgiving-holiday-chamber-office-closed-3565
END:VEVENT

END:VCALENDAR
