BEGIN:VCALENDAR
VERSION:2.0
PRODID:-//ChamberMaster//Event Calendar 2.0//EN
METHOD:PUBLISH
X-PUBLISHED-TTL:P3D
REFRESH-INTERVAL:P3D
CALSCALE:GREGORIAN
BEGIN:VEVENT
DTSTART:20190202T233000Z
DTEND:20190203T033000Z
X-MICROSOFT-CDO-ALLDAYEVENT:FALSE
SUMMARY:The Annual Groundhog Valentines's Ball
DESCRIPTION:Please consider joining your friends and neighbors on Saturday\, Feb. 2nd (Groundhog's Day) for the Annual Groundhog Valentine's Ball presented by the Greater Chapin Community Endowment. The Ball will be an evening of dining\, dancing\, live big band music and celebrating philanthropy in our community. \n\nThe Greater Chapin Community Endowment wishes to thank you for your consideration and support!
X-ALT-DESC;FMTTYPE=text/html:<p style="margin: 0px\; padding: 0px 0px 15px\; border: 0px\; background: none rgb(255\, 255\, 255)\; outline: none\; position: relative\; z-index: 999\; color: rgb(68\, 68\, 68)\; font-size: 14px\; line-height: 24px\; font-family: OpenSansRegular\;">Please consider joining your friends and neighbors on Saturday\, Feb. 2nd (Groundhog&rsquo\;s Day) for the Annual Groundhog Valentine&rsquo\;s Ball presented by the Greater Chapin Community Endowment. The Ball will be an evening of dining\, dancing\, live big band music and celebrating philanthropy in our community.&nbsp\;</p>\n\n<p style="margin: 0px\; padding: 0px 0px 15px\; border: 0px\; background: none rgb(255\, 255\, 255)\; outline: none\; position: relative\; z-index: 999\; color: rgb(68\, 68\, 68)\; font-size: 14px\; line-height: 24px\; font-family: OpenSansRegular\;">The Greater Chapin Community Endowment wishes to thank you for your consideration and support!</p>\n
LOCATION:It will be held at the Chapin Town Hall @ 157 NW Columbia Avenue\, Chapin SC
UID:e.1644.2297
SEQUENCE:3
DTSTAMP:20260422T111938Z
URL:https://business.chapinchamber.com/events/details/the-annual-groundhog-valentines-s-ball-2297
END:VEVENT

END:VCALENDAR
