BEGIN:VCALENDAR
VERSION:2.0
PRODID:-//ChamberMaster//Event Calendar 2.0//EN
METHOD:PUBLISH
X-PUBLISHED-TTL:P3D
REFRESH-INTERVAL:P3D
CALSCALE:GREGORIAN
BEGIN:VEVENT
DTSTART:20180816T213000Z
DTEND:20180817T000000Z
X-MICROSOFT-CDO-ALLDAYEVENT:FALSE
SUMMARY:The Farmstand
DESCRIPTION:Due to the success of the Chapin Downtown Farmer's Market the Town of Chapin will be hosting a small farmstand in the parking lot of the 100 block of Clark Street from 5:30 pm to 8:00 pm on the third Thursdays of each month.\n\n\nThe Farmstand will feature local vendors and is meant to be a quick grocery stop on your way home!
X-ALT-DESC;FMTTYPE=text/html:<p style="margin: 6px 0px\; font-family: Helvetica\, Arial\, sans-serif\; color: rgb(29\, 33\, 41)\; font-size: 14px\; background-color: rgb(255\, 255\, 255)\;">Due to the success of the Chapin Downtown Farmer&#39\;s Market the Town of Chapin will be hosting a small farmstand in the parking lot of the 100 block of Clark Street from 5:30 pm to 8:00 pm on the third Thursdays of each month.</p>\n\n<div class="text_exposed_show" style="display: inline\; font-family: Helvetica\, Arial\, sans-serif\; color: rgb(29\, 33\, 41)\; font-size: 14px\; background-color: rgb(255\, 255\, 255)\;">\n<p style="margin: 0px 0px 6px\; font-family: inherit\;">The Farmstand will feature local vendors and is meant to be a quick grocery stop on your way home!</p>\n</div>\n
LOCATION:The 100 block of Clark Street\, Chapin
UID:e.1644.2217
SEQUENCE:3
DTSTAMP:20260422T201512Z
URL:https://business.chapinchamber.com/events/details/the-farmstand-2217
END:VEVENT

END:VCALENDAR
