BEGIN:VCALENDAR
VERSION:2.0
PRODID:-//ChamberMaster//Event Calendar 2.0//EN
METHOD:PUBLISH
X-PUBLISHED-TTL:P3D
REFRESH-INTERVAL:P3D
CALSCALE:GREGORIAN
BEGIN:VEVENT
DTSTART:20190402T140000Z
DTEND:20190402T160000Z
X-MICROSOFT-CDO-ALLDAYEVENT:FALSE
SUMMARY:The Heritage at Lowman - Brunch & Learn
DESCRIPTION:The first Tuesday of each month between March and June 2019 The Heritage at Lowman will be hosting a complementary brunch for attendees to learn more about their Memory Care Community and how they can help your loved one live their best life ever.  Tours will be available and their experts will be on hand to answer your questions.
X-ALT-DESC;FMTTYPE=text/html:The first Tuesday of each month between March and June 2019 The Heritage at Lowman will be hosting a complementary brunch for attendees to learn more about their Memory Care Community and how they can help your loved one live their best life ever.&nbsp\; Tours will be available and their experts will be on hand to answer your questions.&nbsp\;
LOCATION:The Heritage at Lowman - Wellness Center - 2101 Dutch Fork Road\, Chapin
UID:e.1644.2377
SEQUENCE:3
DTSTAMP:20260422T073534Z
URL:https://business.chapinchamber.com/events/details/the-heritage-at-lowman-brunch-learn-04-02-2019-2377
END:VEVENT

END:VCALENDAR
