BEGIN:VCALENDAR
VERSION:2.0
PRODID:-//ChamberMaster//Event Calendar 2.0//EN
METHOD:PUBLISH
X-PUBLISHED-TTL:P3D
REFRESH-INTERVAL:P3D
CALSCALE:GREGORIAN
BEGIN:VEVENT
DTSTART:20180901T210000Z
DTEND:20180901T233000Z
X-MICROSOFT-CDO-ALLDAYEVENT:FALSE
SUMMARY:The Hinson Girls
DESCRIPTION:The Hinson Girls bluegrass band will be in concert at Chapin Presbyterian Church. There will be a hot dog dinner at 5:00pm and the concert will start at 6:00pm. The dinner and concert are free!
X-ALT-DESC;FMTTYPE=text/html:The Hinson Girls bluegrass band will be in concert at Chapin Presbyterian Church. There will be a hot dog dinner at 5:00pm and the concert will start at 6:00pm. The dinner and concert are free!
LOCATION:Chapin Presbyterian Church 600 Lexington Ave.
UID:e.1644.2224
SEQUENCE:3
DTSTAMP:20260422T183032Z
URL:https://business.chapinchamber.com/events/details/the-hinson-girls-2224
END:VEVENT

END:VCALENDAR
