BEGIN:VCALENDAR
VERSION:2.0
PRODID:-//ChamberMaster//Event Calendar 2.0//EN
METHOD:PUBLISH
X-PUBLISHED-TTL:P3D
REFRESH-INTERVAL:P3D
CALSCALE:GREGORIAN
BEGIN:VEVENT
DTSTART:20191214T170000Z
DTEND:20191214T190000Z
X-MICROSOFT-CDO-ALLDAYEVENT:FALSE
SUMMARY:The Newberry Boys Farm & Area Toy Drive
DESCRIPTION:This year's toy drive will be filmed by Ace Hardware International for a National TV Commercial.  Please join us in lining the streets of Downtown Chapin and Newberry for the filming of this amazing event!  Should you wish to donate please bring an unwrapped gift for all ages from infant to 18 years to Boland's Ace Hardware.  LET'S SHOW THE NATION WHAT A WONDERFUL COMMUNITY WE LIVE IN!!
X-ALT-DESC;FMTTYPE=text/html:This year&#39\;s toy drive will be filmed by Ace Hardware International for a National TV Commercial.&nbsp\; Please join us in lining the streets of Downtown Chapin and Newberry for the filming of this amazing event!&nbsp\; Should you wish to donate please bring an unwrapped gift for all ages from infant to 18 years to Boland&#39\;s Ace Hardware.&nbsp\; LET&#39\;S SHOW THE NATION WHAT A WONDERFUL COMMUNITY WE LIVE IN!!
LOCATION:Starts: Boland's Ace Hardware - 745 Chapin Road Bikes line up at 1:00 p.m - Kick stands up at 2:00 p.m. Ends: The Newberry Shrine Club - 196 Shrine Club Road\, Newberry SC
UID:e.1644.3580
SEQUENCE:3
DTSTAMP:20260425T193136Z
URL:https://business.chapinchamber.com/events/details/the-newberry-boys-farm-area-toy-drive-3580
END:VEVENT

END:VCALENDAR
