BEGIN:VCALENDAR
VERSION:2.0
PRODID:-//ChamberMaster//Event Calendar 2.0//EN
METHOD:PUBLISH
X-PUBLISHED-TTL:P3D
REFRESH-INTERVAL:P3D
CALSCALE:GREGORIAN
BEGIN:VEVENT
DTSTART:20190302T000000Z
DTEND:20190302T030000Z
X-MICROSOFT-CDO-ALLDAYEVENT:FALSE
SUMMARY:The Pompeii Oven - Jim LeBlanc Playing tonight
DESCRIPTION:Pompeii Oven will host Jim Leblanc who will play on the outdoor covered patio tonight.  Come in early for fantastic authentic italian style pizza and other menu options.
X-ALT-DESC;FMTTYPE=text/html:Pompeii Oven will host Jim Leblanc who will play on the outdoor covered patio tonight.&nbsp\; Come in early for fantastic authentic italian style pizza and other menu options.&nbsp\;&nbsp\;
LOCATION:The Pompeii Oven - 912 Chapin Road\, Chapin
UID:e.1644.2389
SEQUENCE:3
DTSTAMP:20260422T091137Z
URL:https://business.chapinchamber.com/events/details/the-pompeii-oven-jim-leblanc-playing-tonight-2389
END:VEVENT

END:VCALENDAR
